BEGIN:VCALENDAR
VERSION:2.0
PRODID:-//Lea Vicens - ECPv6.0.6.2//NONSGML v1.0//EN
CALSCALE:GREGORIAN
METHOD:PUBLISH
X-WR-CALNAME:Lea Vicens
X-ORIGINAL-URL:https://leavicens.com/es_ES
X-WR-CALDESC:Eventos para Lea Vicens
REFRESH-INTERVAL;VALUE=DURATION:PT1H
X-Robots-Tag:noindex
X-PUBLISHED-TTL:PT1H
BEGIN:VTIMEZONE
TZID:Europe/Madrid
BEGIN:DAYLIGHT
TZOFFSETFROM:+0100
TZOFFSETTO:+0200
TZNAME:CEST
DTSTART:20230326T010000
END:DAYLIGHT
BEGIN:STANDARD
TZOFFSETFROM:+0200
TZOFFSETTO:+0100
TZNAME:CET
DTSTART:20231029T010000
END:STANDARD
END:VTIMEZONE
BEGIN:VEVENT
DTSTART;VALUE=DATE:20231015
DTEND;VALUE=DATE:20231016
DTSTAMP:20260423T130700
CREATED:20230830T171448Z
LAST-MODIFIED:20230830T171448Z
UID:10000043-1697328000-1697414399@leavicens.com
SUMMARY:Zaragoza
DESCRIPTION:Lugar: Plaza de toros de la Misericordia (Plaza de toros de Zaragoza) \nFecha: Domingo\, 15 de octubre de 2023 \nHora: 17:30 horas \nCartel: LÉA VICENS\, Sergio Galán y Diego Ventura \nGanadería: El Capea
URL:https://leavicens.com/es_ES/event/zaragoza/
ATTACH;FMTTYPE=image/jpeg:https://leavicens.com/lvicens/wp-content/uploads/2023/08/plaza-toros-zaragoza.jpeg
END:VEVENT
BEGIN:VEVENT
DTSTART;VALUE=DATE:20230924
DTEND;VALUE=DATE:20230925
DTSTAMP:20260423T130700
CREATED:20230221T194258Z
LAST-MODIFIED:20230221T194258Z
UID:10000011-1695513600-1695599999@leavicens.com
SUMMARY:Pozoblanco
DESCRIPTION:Lugar: Plaza de Toros Coso de los Llanos (Pozoblanco\, Córdoba)\n\nFecha: Domingo 24 de septiembre de 2023 \nHora: 18:00 horas \nCartel: LÉA VICENS\, Andy Cartagena y Leonardo Hernández \nGanadería: La Castilleja
URL:https://leavicens.com/es_ES/event/pozoblanco/
ATTACH;FMTTYPE=image/jpeg:https://leavicens.com/lvicens/wp-content/uploads/2023/02/plaza-pozoblanco.jpg
END:VEVENT
BEGIN:VEVENT
DTSTART;VALUE=DATE:20230923
DTEND;VALUE=DATE:20230924
DTSTAMP:20260423T130700
CREATED:20230908T223223Z
LAST-MODIFIED:20230908T223223Z
UID:10000044-1695427200-1695513599@leavicens.com
SUMMARY:Fregenal de la Sierra
DESCRIPTION:Lugar: Plaza de toros de Fregenal de la Sierra (Badajoz) \nFecha: Sábado\, 23 de septiembre de 2023 \nHora: 17:30 horas \nCartel: LÉA VICENS\, Joao Moura Jr  y Leonardo Hernández \nGanadería: Juan Albarrán
URL:https://leavicens.com/es_ES/event/fregenal-de-la-sierra/
ATTACH;FMTTYPE=image/jpeg:https://leavicens.com/lvicens/wp-content/uploads/2023/09/Plaza-Toros-Fregenal-de-la-Sierra.jpg
END:VEVENT
BEGIN:VEVENT
DTSTART;VALUE=DATE:20230917
DTEND;VALUE=DATE:20230918
DTSTAMP:20260423T130700
CREATED:20230616T135456Z
LAST-MODIFIED:20230616T135456Z
UID:10000029-1694908800-1694995199@leavicens.com
SUMMARY:Murcia
DESCRIPTION:Lugar: Plaza de toros de la Condomina (Murcia) \nFecha: Domingo\, 17 de septiembre de 2023 \nHora: 18:30 horas \nCartel: LÉA VICENS\, Andy Cartagena y Diego Ventura \nGanadería: Los Espartales
URL:https://leavicens.com/es_ES/event/murcia/
ATTACH;FMTTYPE=image/jpeg:https://leavicens.com/lvicens/wp-content/uploads/2023/06/plaza-de-toros-murcia.jpg
END:VEVENT
BEGIN:VEVENT
DTSTART;VALUE=DATE:20230916
DTEND;VALUE=DATE:20230917
DTSTAMP:20260423T130700
CREATED:20230713T183057Z
LAST-MODIFIED:20230713T183057Z
UID:10000036-1694822400-1694908799@leavicens.com
SUMMARY:Nimes
DESCRIPTION:Lugar: Arènes de Nimes (Plaza de toros de Nimes) \nFecha: Sábado\, 16 de septiembre  de 2023 \nHora: 11:00 horas \nCartel: LÉA VICENS y Diego Ventura \nGanadería: Fermín Bohórquez
URL:https://leavicens.com/es_ES/event/nimes-2/
ATTACH;FMTTYPE=image/jpeg:https://leavicens.com/lvicens/wp-content/uploads/2023/03/plaza-nimes.jpg
END:VEVENT
BEGIN:VEVENT
DTSTART;VALUE=DATE:20230910
DTEND;VALUE=DATE:20230911
DTSTAMP:20260423T130700
CREATED:20230622T092539Z
LAST-MODIFIED:20230622T092539Z
UID:10000031-1694304000-1694390399@leavicens.com
SUMMARY:Albacete
DESCRIPTION:Lugar: Plaza de toros de Albacete \nFecha: Domingo\, 10 de septiembre de 2023 \nHora: 18:00 horas \nCartel: LÉA VICENS\, Andy Cartagena y Diego Ventura \nGanadería: Los Espartales
URL:https://leavicens.com/es_ES/event/albacete/
ATTACH;FMTTYPE=image/jpeg:https://leavicens.com/lvicens/wp-content/uploads/2023/06/plaza-albacete.jpg
END:VEVENT
BEGIN:VEVENT
DTSTART;VALUE=DATE:20230909
DTEND;VALUE=DATE:20230910
DTSTAMP:20260423T130700
CREATED:20230803T172718Z
LAST-MODIFIED:20230803T172718Z
UID:10000040-1694217600-1694303999@leavicens.com
SUMMARY:Belmez
DESCRIPTION:Lugar: Plaza de toros de Belmez \nFecha: Sábado\, 9 de septiembre de 2023 \nHora: 18:00 horas \nCartel: LÉA VICENS\, Andrés Romero y Sebastián Fernández \nGanadería: La Castilleja
URL:https://leavicens.com/es_ES/event/belmez/
ATTACH;FMTTYPE=image/jpeg:https://leavicens.com/lvicens/wp-content/uploads/2023/08/Plaza_de_Toros_Belmez.jpg
END:VEVENT
BEGIN:VEVENT
DTSTART;VALUE=DATE:20230908
DTEND;VALUE=DATE:20230909
DTSTAMP:20260423T130700
CREATED:20230716T044530Z
LAST-MODIFIED:20230716T044530Z
UID:10000038-1694131200-1694217599@leavicens.com
SUMMARY:Don Benito
DESCRIPTION:Lugar: Plaza de toros Alcalde Mariano Gallego (Plaza de toros de Don Benito) \nFecha: Viernes\, 8 de septiembre de 2023 \nHora: 18:30 horas \nCartel: LÉA VICENS\, Morante de la Puebla\, Alejandro Talavante y Juanito \nGanadería: Los Espartales
URL:https://leavicens.com/es_ES/event/don-benito/
ATTACH;FMTTYPE=image/jpeg:https://leavicens.com/lvicens/wp-content/uploads/2023/07/plaza-de-toros-don-benito-scaled.jpg
END:VEVENT
BEGIN:VEVENT
DTSTART;VALUE=DATE:20230902
DTEND;VALUE=DATE:20230903
DTSTAMP:20260423T130700
CREATED:20230705T171231Z
LAST-MODIFIED:20230705T171231Z
UID:10000034-1693612800-1693699199@leavicens.com
SUMMARY:Palencia
DESCRIPTION:Lugar: Plaza de toros Campos Góticos (Plaza de toros de Palencia) \n\n\n\n\nFecha: Sábado\, 2 de septiembre de 2023 \nHora: 19:00 horas \nCartel: LÉA VICENS\, Joao Ribeiro Telles y Guillermo Hermoso de Mendoza \nGanadería: David Ribeiro Telles
URL:https://leavicens.com/es_ES/event/palencia/
ATTACH;FMTTYPE=image/jpeg:https://leavicens.com/lvicens/wp-content/uploads/2023/07/plaza-toros-palencia.jpg
END:VEVENT
BEGIN:VEVENT
DTSTART;VALUE=DATE:20230831
DTEND;VALUE=DATE:20230901
DTSTAMP:20260423T130700
CREATED:20230525T082108Z
LAST-MODIFIED:20230525T082108Z
UID:10000026-1693440000-1693526399@leavicens.com
SUMMARY:San Sebastián de los Reyes
DESCRIPTION:Lugar: Plaza de Toros de San Sebastián de los Reyes \nFecha: Jueves\, 31 de agosto de 2023 \nHora: 21:00 horas \nCartel: LÉA VICENS\, Sergio Galán y Joao Ribeiro Telles \nGanadería: Ángel Sánchez
URL:https://leavicens.com/es_ES/event/san-sebastian-de-los-reyes/
ATTACH;FMTTYPE=image/jpeg:https://leavicens.com/lvicens/wp-content/uploads/2023/05/plaza-ssreyes.jpg
END:VEVENT
BEGIN:VEVENT
DTSTART;VALUE=DATE:20230827
DTEND;VALUE=DATE:20230828
DTSTAMP:20260423T130700
CREATED:20230818T204828Z
LAST-MODIFIED:20230818T204828Z
UID:10000042-1693094400-1693180799@leavicens.com
SUMMARY:Cantimpalos
DESCRIPTION:Lugar: Plaza de toros de Cantimpalos (Segovia) \nFecha: Domingo\, 27 de agosto de 2023 \nHora: 18:00 horas \nCartel: LÉA VICENS\, Sergio Galán y Leonardo Hernández \nGanadería: Ángel Sánchez y Sánchez
URL:https://leavicens.com/es_ES/event/cantimpalos/
ATTACH;FMTTYPE=image/jpeg:https://leavicens.com/lvicens/wp-content/uploads/2023/08/cantimpalos.jpg
END:VEVENT
BEGIN:VEVENT
DTSTART;VALUE=DATE:20230826
DTEND;VALUE=DATE:20230827
DTSTAMP:20260423T130700
CREATED:20230728T213020Z
LAST-MODIFIED:20230728T213020Z
UID:10000039-1693008000-1693094399@leavicens.com
SUMMARY:Calahorra
DESCRIPTION:Lugar: Plaza de toros de Calahorra (La Rioja) \nFecha: Sábado\, 26 de agosto de 2023 \nHora: 18:00 horas \nCartel: LÉA VICENS\, Sergio Domínguez y Guillermo Hermoso de Mendoza \nGanadería: Paulo Coetano y Romao Tenorio
URL:https://leavicens.com/es_ES/event/calahorra/
ATTACH;FMTTYPE=image/jpeg:https://leavicens.com/lvicens/wp-content/uploads/2023/07/plaza-calahorra.jpg
END:VEVENT
BEGIN:VEVENT
DTSTART;VALUE=DATE:20230820
DTEND;VALUE=DATE:20230821
DTSTAMP:20260423T130700
CREATED:20230629T185725Z
LAST-MODIFIED:20230629T185725Z
UID:10000032-1692489600-1692575999@leavicens.com
SUMMARY:Bilbao
DESCRIPTION:Lugar: Plaza de toros Vista Alegre (Bilbao) \nFecha: Domingo\, 20 de agosto de 2023 \nHora: 18:00 horas \nCartel: LÉA VICENS\, Pablo Hermoso de Mendoza y Guillermo Hermoso de Mendoza \nGanadería: Fermín Bohórquez
URL:https://leavicens.com/es_ES/event/bilbao/
ATTACH;FMTTYPE=image/jpeg:https://leavicens.com/lvicens/wp-content/uploads/2023/06/plaza-bilbao.jpg
END:VEVENT
BEGIN:VEVENT
DTSTART;VALUE=DATE:20230816
DTEND;VALUE=DATE:20230817
DTSTAMP:20260423T130700
CREATED:20230807T100337Z
LAST-MODIFIED:20230807T100337Z
UID:10000041-1692144000-1692230399@leavicens.com
SUMMARY:Guijuelo
DESCRIPTION:Lugar: Plaza de Toros de Guijuelo (Salamanca) \nFecha: Miércoles\, 16 de agosto de 2023 \nHora: 18:30 horas \nCartel: LÉA VICENS\, Guillermo Hermoso de Mendoza y Duarte Fernandes \nGanadería: San Pelayo
URL:https://leavicens.com/es_ES/event/guijuelo/
ATTACH;FMTTYPE=image/jpeg:https://leavicens.com/lvicens/wp-content/uploads/2023/08/plaza-de-toros-de-guijuelo.jpeg
END:VEVENT
BEGIN:VEVENT
DTSTART;VALUE=DATE:20230815
DTEND;VALUE=DATE:20230816
DTSTAMP:20260423T130700
CREATED:20230511T104705Z
LAST-MODIFIED:20230518T115439Z
UID:10000022-1692057600-1692143999@leavicens.com
SUMMARY:Dax
DESCRIPTION:Lugar: Plaza de toros de Dax \nFecha: 15 de agosto de 2023 \nHora: 11:00 horas \nCartel: LÉA VICENS\, Andy Cartagena y Duarte Fernandes \nGanadería: Murube
URL:https://leavicens.com/es_ES/event/dax/
ATTACH;FMTTYPE=image/jpeg:https://leavicens.com/lvicens/wp-content/uploads/2023/05/plaza-dax.jpg
END:VEVENT
BEGIN:VEVENT
DTSTART;VALUE=DATE:20230813
DTEND;VALUE=DATE:20230814
DTSTAMP:20260423T130700
CREATED:20230415T180845Z
LAST-MODIFIED:20230415T180845Z
UID:10000018-1691884800-1691971199@leavicens.com
SUMMARY:Béziers
DESCRIPTION:Lugar: Plaza de Toros de Béziers (Béziers)\n\nFecha: Domingo 13 de agosto de 2023 \nHora: 18:00 horas \nCartel: LÉA VICENS\, Daniel Luque y Juan Leal \nGanadería: Fermín Bohórquez y Domecq
URL:https://leavicens.com/es_ES/event/beziers/
ATTACH;FMTTYPE=image/jpeg:https://leavicens.com/lvicens/wp-content/uploads/2023/04/plaza-beziers.jpg
END:VEVENT
BEGIN:VEVENT
DTSTART;VALUE=DATE:20230810
DTEND;VALUE=DATE:20230811
DTSTAMP:20260423T130700
CREATED:20230713T182314Z
LAST-MODIFIED:20230713T182314Z
UID:10000035-1691625600-1691711999@leavicens.com
SUMMARY:San Roque
DESCRIPTION:Lugar: Plaza de toros de San Roque (Cádiz) \nFecha: Jueves\, 10 de agosto de 2023 \nHora: 19:00 horas \nCartel: LÉA VICENS\, Manuel Escribano y David Galván \nGanadería: Soto de la Fuente
URL:https://leavicens.com/es_ES/event/san-roque/
ATTACH;FMTTYPE=image/jpeg:https://leavicens.com/lvicens/wp-content/uploads/2023/07/plaza-san-roque.jpg
END:VEVENT
BEGIN:VEVENT
DTSTART;VALUE=DATE:20230806
DTEND;VALUE=DATE:20230807
DTSTAMP:20260423T130700
CREATED:20230629T203152Z
LAST-MODIFIED:20230629T203152Z
UID:10000033-1691280000-1691366399@leavicens.com
SUMMARY:Huelva
DESCRIPTION:Lugar: Plaza de toros de La Merced (Huelva) \nFecha: Domingo\, 6 de agosto de 2023 \nHora: 20:00 horas \nCartel: LÉA VICENS\, Rui Fernandes\, Diego Ventura y Andrés Romero \nGanadería: Fermín Bohórquez
URL:https://leavicens.com/es_ES/event/huelva/
ATTACH;FMTTYPE=image/jpeg:https://leavicens.com/lvicens/wp-content/uploads/2023/06/Plaza_de_Toros_-_Huelva-scaled.jpg
END:VEVENT
BEGIN:VEVENT
DTSTART;VALUE=DATE:20230729
DTEND;VALUE=DATE:20230730
DTSTAMP:20260423T130700
CREATED:20230616T135239Z
LAST-MODIFIED:20230616T135239Z
UID:10000028-1690588800-1690675199@leavicens.com
SUMMARY:Bayonne
DESCRIPTION:Lugar: Plaza de toros Arènes de Bayonne (Bayona) \nFecha: Sábado\, 29 de julio de 2023 \nHora: 18:30 horas \nCartel: LÉA VICENS\, Miguel Moura y Guillermo Hermoso de Mendoza \nGanadería: Romão Tenorio
URL:https://leavicens.com/es_ES/event/bayonne/
ATTACH;FMTTYPE=image/jpeg:https://leavicens.com/lvicens/wp-content/uploads/2023/06/plaza-toros-de-bayona-scaled.jpg
END:VEVENT
BEGIN:VEVENT
DTSTART;VALUE=DATE:20230728
DTEND;VALUE=DATE:20230729
DTSTAMP:20260423T130700
CREATED:20230504T202138Z
LAST-MODIFIED:20230504T202138Z
UID:10000020-1690502400-1690588799@leavicens.com
SUMMARY:Santander
DESCRIPTION:Lugar: Plaza de toros Cuatro Caminos (Santander) \nFecha: 28 de julio de 2023 \nHora: 18:30 horas \nCartel: LÉA VICENS\, Leonardo Hernández y Guillermo Hermoso de Mendoza \nGanadería: El Canario
URL:https://leavicens.com/es_ES/event/santander/
ATTACH;FMTTYPE=image/jpeg:https://leavicens.com/lvicens/wp-content/uploads/2023/05/plaza-santander.jpg
END:VEVENT
BEGIN:VEVENT
DTSTART;VALUE=DATE:20230716
DTEND;VALUE=DATE:20230717
DTSTAMP:20260423T130700
CREATED:20230320T172746Z
LAST-MODIFIED:20230320T172746Z
UID:10000014-1689465600-1689551999@leavicens.com
SUMMARY:Lunel
DESCRIPTION:Lugar: Plaza de Toros de Lunel (Lunel\, Francia)\n\nFecha: Domingo\, 16 de julio de 2023 \nHora: 17:30 horas \nCartel: LÉA VICENS\, Sebastián Castella y Alejandro Talavante \nGanadería: Fermín Bohórquez
URL:https://leavicens.com/es_ES/event/lunel/
ATTACH;FMTTYPE=image/jpeg:https://leavicens.com/lvicens/wp-content/uploads/2023/03/Plaza-de-Lunel.jpg
END:VEVENT
BEGIN:VEVENT
DTSTART;VALUE=DATE:20230714
DTEND;VALUE=DATE:20230715
DTSTAMP:20260423T130700
CREATED:20230401T190932Z
LAST-MODIFIED:20230401T190932Z
UID:10000015-1689292800-1689379199@leavicens.com
SUMMARY:Méjanes
DESCRIPTION:Lugar: Plaza de Toros de la Domaine de Méjanes (Camarga\, Francia)\n\nFecha: Viernes 14 de julio de 2023 \nHora: 18:00 horas \nCartel: LÉA VICENS\, Pablo Hermoso de Mendoza y Guillermo Hermoso de Mendoza \nGanadería: San Pelayo
URL:https://leavicens.com/es_ES/event/mejanes/
ATTACH;FMTTYPE=image/jpeg:https://leavicens.com/lvicens/wp-content/uploads/2023/04/plaza-mejanes.jpg
END:VEVENT
BEGIN:VEVENT
DTSTART;VALUE=DATE:20230708
DTEND;VALUE=DATE:20230709
DTSTAMP:20260423T130700
CREATED:20230620T104003Z
LAST-MODIFIED:20230620T104706Z
UID:10000030-1688774400-1688860799@leavicens.com
SUMMARY:Cabeza la Vaca
DESCRIPTION:Lugar: Plaza de Toros de Cabeza la Vaca (Badajoz) \nFecha: Sábado\, 8 de julio de 2023 \nHora: 20:00 horas \nCartel: LÉA VICENS\, Leonardo Hernández y Andrés Romero \nGanadería: Arcadio Albarán
URL:https://leavicens.com/es_ES/event/cabeza-la-vaca/
ATTACH;FMTTYPE=image/jpeg:https://leavicens.com/lvicens/wp-content/uploads/2023/06/plaza-toros.jpg
END:VEVENT
BEGIN:VEVENT
DTSTART;VALUE=DATE:20230625
DTEND;VALUE=DATE:20230626
DTSTAMP:20260423T130700
CREATED:20230518T115318Z
LAST-MODIFIED:20230518T115318Z
UID:10000025-1687651200-1687737599@leavicens.com
SUMMARY:Rozas de Puerto Real
DESCRIPTION:Lugar: Plaza de Toros de Rozas de Puerto Real \nFecha: Domingo 25 de junio de 2023 \nHora: 19:00 horas \nCartel: LÉA VICENS\, Andy Cartagena y Ferrer Martín \nGanadería: Jodar y Ruchena
URL:https://leavicens.com/es_ES/event/rozas-de-puerto-real/
ATTACH;FMTTYPE=image/png:https://leavicens.com/lvicens/wp-content/uploads/2023/05/plaza-rozas.png
END:VEVENT
BEGIN:VEVENT
DTSTART;VALUE=DATE:20230624
DTEND;VALUE=DATE:20230625
DTSTAMP:20260423T130700
CREATED:20230518T114907Z
LAST-MODIFIED:20230518T114907Z
UID:10000024-1687564800-1687651199@leavicens.com
SUMMARY:León
DESCRIPTION:Lugar: León Arena\, Plaza de toros de León \nFecha: Sábado 24 de junio de 2023 \nHora: 18:30 horas \nCartel: LÉA VICENS y Rui Fernandes y Diego Ventura \nGanadería: Ángel Sánchez y Sánchez
URL:https://leavicens.com/es_ES/event/leon/
ATTACH;FMTTYPE=image/jpeg:https://leavicens.com/lvicens/wp-content/uploads/2023/05/plaza-toros-leon.jpg
END:VEVENT
BEGIN:VEVENT
DTSTART;VALUE=DATE:20230618
DTEND;VALUE=DATE:20230619
DTSTAMP:20260423T130700
CREATED:20230511T105336Z
LAST-MODIFIED:20230518T115640Z
UID:10000023-1687046400-1687132799@leavicens.com
SUMMARY:Alicante
DESCRIPTION:Lugar: Plaza de toros de Alicante \nFecha: 18 de junio de 2023 \nHora: 19:00 horas \nCartel: LÉA VICENS\, Andy Cartagena y Diego Ventura \nGanadería: Fermín Bohórquez
URL:https://leavicens.com/es_ES/event/alicante/
ATTACH;FMTTYPE=image/jpeg:https://leavicens.com/lvicens/wp-content/uploads/2023/05/plaza-alicante.jpg
END:VEVENT
BEGIN:VEVENT
DTSTART;VALUE=DATE:20230611
DTEND;VALUE=DATE:20230612
DTSTAMP:20260423T130700
CREATED:20230511T104444Z
LAST-MODIFIED:20230518T115802Z
UID:10000021-1686441600-1686527999@leavicens.com
SUMMARY:Plasencia
DESCRIPTION:Lugar: Coso de las Golondrinas (Plaza de toros de Plasencia) \nFecha: 11 de junio de 2023 \nHora: 19:00 horas \nCartel: LÉA VICENS\, Pablo Hermoso de Mendoza y Leonardo Hernández \nGanadería: Rosa Rodrígues
URL:https://leavicens.com/es_ES/event/plasencia/
ATTACH;FMTTYPE=image/jpeg:https://leavicens.com/lvicens/wp-content/uploads/2023/05/plaza-toros-plasencia.jpg
END:VEVENT
BEGIN:VEVENT
DTSTART;VALUE=DATE:20230610
DTEND;VALUE=DATE:20230611
DTSTAMP:20260423T130700
CREATED:20230525T082402Z
LAST-MODIFIED:20230525T082402Z
UID:10000027-1686355200-1686441599@leavicens.com
SUMMARY:Fuentes de León
DESCRIPTION:Lugar: Plaza de Toros de Fuentes de León \nFecha: Sábado\, 10 de junio de 2023 \nHora: 19:30 horas \nCartel: LÉA VICENS\, El Fandi y Juanito \nGanadería: D. Juan Albarrán
URL:https://leavicens.com/es_ES/event/fuentes-de-leon/
ATTACH;FMTTYPE=image/jpeg:https://leavicens.com/lvicens/wp-content/uploads/2023/05/plaza-fuentes-de-leon.jpg
END:VEVENT
BEGIN:VEVENT
DTSTART;VALUE=DATE:20230603
DTEND;VALUE=DATE:20230604
DTSTAMP:20260423T130700
CREATED:20230202T122914Z
LAST-MODIFIED:20230228T224419Z
UID:10000009-1685750400-1685836799@leavicens.com
SUMMARY:Madrid
DESCRIPTION:Lugar: Plaza de Toros de Las Ventas (Madrid)\n\nFecha: Sábado 3 de junio de 2023 \nHora: 19:00 horas \nCartel: LÉA VICENS\, Pablo Hermoso de Mendoza y Guillermo Hermoso de Mendoza \nGanadería: Fermín Bohórquez
URL:https://leavicens.com/es_ES/event/madrid/
ATTACH;FMTTYPE=image/jpeg:https://leavicens.com/lvicens/wp-content/uploads/2023/02/plaza-madrid.jpg
END:VEVENT
BEGIN:VEVENT
DTSTART;VALUE=DATE:20230529
DTEND;VALUE=DATE:20230530
DTSTAMP:20260423T130700
CREATED:20230313T202717Z
LAST-MODIFIED:20230313T202717Z
UID:10000012-1685318400-1685404799@leavicens.com
SUMMARY:Nimes
DESCRIPTION:Lugar: Nimes \nFecha: 29 de mayo de 2023 \nHora: 11:30 horas \nCartel: LÉA VICENS y Guillermo Hermoso de Mendoza \nGanadería: Fermín Bohórquez
URL:https://leavicens.com/es_ES/event/nimes/
ATTACH;FMTTYPE=image/jpeg:https://leavicens.com/lvicens/wp-content/uploads/2023/03/plaza-nimes-1.jpg
END:VEVENT
END:VCALENDAR